BEGIN:VCALENDAR
VERSION:2.0
PRODID:-//wp-events-plugin.com//7.2.3.1//EN
BEGIN:VEVENT
UID:14@wangduephodrang.gov.bt
DTSTART:20251217T000000Z
DTEND:20251217T000000Z
DTSTAMP:20260216T090502Z
URL:https://wangduephodrang.gov.bt/events/118th-national-day-celebration/
SUMMARY:118th National Day Celebration
DESCRIPTION:       
ATTACH;FMTTYPE=image/jpeg:https://wangduephodrang.gov.bt/wp-content/upload
 s/2026/02/118.jpg
CATEGORIES:Culture
END:VEVENT
END:VCALENDAR